BEGIN:VCALENDAR
VERSION:2.0
PRODID:-//EM Magazine - ECPv6.15.20//NONSGML v1.0//EN
CALSCALE:GREGORIAN
METHOD:PUBLISH
X-ORIGINAL-URL:https://www.energymanagermagazine.co.uk
X-WR-CALDESC:Events for EM Magazine
REFRESH-INTERVAL;VALUE=DURATION:PT1H
X-Robots-Tag:noindex
X-PUBLISHED-TTL:PT1H
BEGIN:VTIMEZONE
TZID:Europe/London
BEGIN:DAYLIGHT
TZOFFSETFROM:+0000
TZOFFSETTO:+0100
TZNAME:BST
DTSTART:20250330T010000
END:DAYLIGHT
BEGIN:STANDARD
TZOFFSETFROM:+0100
TZOFFSETTO:+0000
TZNAME:GMT
DTSTART:20251026T010000
END:STANDARD
BEGIN:DAYLIGHT
TZOFFSETFROM:+0000
TZOFFSETTO:+0100
TZNAME:BST
DTSTART:20260329T010000
END:DAYLIGHT
BEGIN:STANDARD
TZOFFSETFROM:+0100
TZOFFSETTO:+0000
TZNAME:GMT
DTSTART:20261025T010000
END:STANDARD
BEGIN:DAYLIGHT
TZOFFSETFROM:+0000
TZOFFSETTO:+0100
TZNAME:BST
DTSTART:20270328T010000
END:DAYLIGHT
BEGIN:STANDARD
TZOFFSETFROM:+0100
TZOFFSETTO:+0000
TZNAME:GMT
DTSTART:20271031T010000
END:STANDARD
END:VTIMEZONE
BEGIN:VEVENT
DTSTART;VALUE=DATE:20260921
DTEND;VALUE=DATE:20260923
DTSTAMP:20260419T153917
CREATED:20260327T161622Z
LAST-MODIFIED:20260327T161622Z
UID:17298-1789948800-1790121599@www.energymanagermagazine.co.uk
SUMMARY:Energy Management Summit 2026
DESCRIPTION:The Energy Management Summit is a focused event\, specifically organised for senior professionals who are directly responsible for their organisation’s Energy Management requirements\, as well as for those who provide the latest and greatest products and services within the sector.
URL:https://www.energymanagermagazine.co.uk/event/energy-management-summit-2026/
LOCATION:Radisson Hotel & Conference Centre London Heathrow\, Bath Road (Building A)\, West Drayton\, Heathrow\,\, London\, United Kingdom
CATEGORIES:Conference,Exhibition
ATTACH;FMTTYPE=image/jpeg:https://www.energymanagermagazine.co.uk/wp-content/uploads/2026/03/energy-management-summit.jpg
ORGANIZER;CN="Forum Events":MAILTO:enquiries@forumevents.co.uk
END:VEVENT
END:VCALENDAR